BEGIN:VCALENDAR
VERSION:2.0
PRODID:-//Faith in the Bay - ECPv6.2.7//NONSGML v1.0//EN
CALSCALE:GREGORIAN
METHOD:PUBLISH
X-ORIGINAL-URL:http://faithinthebay.com
X-WR-CALDESC:Events for Faith in the Bay
REFRESH-INTERVAL;VALUE=DURATION:PT1H
X-Robots-Tag:noindex
X-PUBLISHED-TTL:PT1H
BEGIN:VTIMEZONE
TZID:America/Los_Angeles
BEGIN:DAYLIGHT
TZOFFSETFROM:-0800
TZOFFSETTO:-0700
TZNAME:PDT
DTSTART:20180311T100000
END:DAYLIGHT
BEGIN:STANDARD
TZOFFSETFROM:-0700
TZOFFSETTO:-0800
TZNAME:PST
DTSTART:20181104T090000
END:STANDARD
END:VTIMEZONE
BEGIN:VEVENT
DTSTART;TZID=America/Los_Angeles:20180413T183000
DTEND;TZID=America/Los_Angeles:20180413T220000
DTSTAMP:20260419T132906
CREATED:20231114T220235Z
LAST-MODIFIED:20231114T220235Z
UID:10013304-1523644200-1523656800@faithinthebay.com
SUMMARY:Baptist Ministers Union of Oakland & Vicinity - City Wide Revival
DESCRIPTION:All are invited to the 62nd Annual City Wide Revival\, hosted by the Baptist Ministers Union of Oakland and Vicinity. The dates have changed this year…the revival will be held April 8-13\, 2018. \n \n\nDay Services: 10am\, held at Antioch Baptist Church (Oakland\, CA) \nEvening Services: 6:30pm\, held at Greater St. John (Oakland\, CA) \n\nRev. Dr. Freddy Haynes\, Jr.\nRev. Tolan Morgan\n\nBishop Gregory Payton\, President\nBaptist Minister’s Union of Oakland & Vicinity
URL:http://faithinthebay.com/event/baptist-ministers-union-of-oakland-vicinity-city-wide-revival/2018-04-13/
CATEGORIES:Revival,Worship & Arts,Youth & Young Adults
ATTACH;FMTTYPE=image/jpeg:http://faithinthebay.com/wp-content/uploads/2018/03/bmu-city-wide-oakland-2018.jpg
END:VEVENT
END:VCALENDAR