BEGIN:VCALENDAR
VERSION:2.0
PRODID:-//Faith in the Bay - ECPv6.2.7//NONSGML v1.0//EN
CALSCALE:GREGORIAN
METHOD:PUBLISH
X-ORIGINAL-URL:http://faithinthebay.com
X-WR-CALDESC:Events for Faith in the Bay
REFRESH-INTERVAL;VALUE=DURATION:PT1H
X-Robots-Tag:noindex
X-PUBLISHED-TTL:PT1H
BEGIN:VTIMEZONE
TZID:America/Los_Angeles
BEGIN:DAYLIGHT
TZOFFSETFROM:-0800
TZOFFSETTO:-0700
TZNAME:PDT
DTSTART:20170312T100000
END:DAYLIGHT
BEGIN:STANDARD
TZOFFSETFROM:-0700
TZOFFSETTO:-0800
TZNAME:PST
DTSTART:20171105T090000
END:STANDARD
END:VTIMEZONE
BEGIN:VEVENT
DTSTART;TZID=America/Los_Angeles:20170916T190000
DTEND;TZID=America/Los_Angeles:20170916T213000
DTSTAMP:20260421T093857
CREATED:20170721T025145Z
LAST-MODIFIED:20170806T195309Z
UID:10013021-1505588400-1505597400@faithinthebay.com
SUMMARY:Mann Family World Tour - Starring David And Tamela Mann
DESCRIPTION:Don’t miss the Mann Family World Tour coming to Oakland’s Paramount Theatre\, September 16th featuring Grammy Award winning Tamela Mann in concert along with her husband\, David Mann for his highly acclaimed comedy show all in ONE NIGHT! See David Jr & Tia also\, this will be a night of laughter and praise! \nOn Sale Now: http://bit.ly/2vGGbCd \n  \n \n 
URL:http://faithinthebay.com/event/mann-family-world-tour-starring-david-tamela-mann/
LOCATION:Paramount Theatre\, 2025 Broadway\, Oakland\, CA\, 94612\, United States
CATEGORIES:Family Fun,Gospel Concert
ATTACH;FMTTYPE=image/jpeg:http://faithinthebay.com/wp-content/uploads/2017/07/Mann_Family_Tour_4x6v2.jpg
GEO:37.8098743;-122.2685233
X-APPLE-STRUCTURED-LOCATION;VALUE=URI;X-ADDRESS=Paramount Theatre 2025 Broadway Oakland CA 94612 United States;X-APPLE-RADIUS=500;X-TITLE=2025 Broadway:geo:-122.2685233,37.8098743
END:VEVENT
END:VCALENDAR