BEGIN:VCALENDAR
VERSION:2.0
PRODID:-//Faith in the Bay - ECPv6.2.7//NONSGML v1.0//EN
CALSCALE:GREGORIAN
METHOD:PUBLISH
X-ORIGINAL-URL:http://faithinthebay.com
X-WR-CALDESC:Events for Faith in the Bay
REFRESH-INTERVAL;VALUE=DURATION:PT1H
X-Robots-Tag:noindex
X-PUBLISHED-TTL:PT1H
BEGIN:VTIMEZONE
TZID:America/Los_Angeles
BEGIN:DAYLIGHT
TZOFFSETFROM:-0800
TZOFFSETTO:-0700
TZNAME:PDT
DTSTART:20180311T100000
END:DAYLIGHT
BEGIN:STANDARD
TZOFFSETFROM:-0700
TZOFFSETTO:-0800
TZNAME:PST
DTSTART:20181104T090000
END:STANDARD
BEGIN:DAYLIGHT
TZOFFSETFROM:-0800
TZOFFSETTO:-0700
TZNAME:PDT
DTSTART:20190310T100000
END:DAYLIGHT
BEGIN:STANDARD
TZOFFSETFROM:-0700
TZOFFSETTO:-0800
TZNAME:PST
DTSTART:20191103T090000
END:STANDARD
BEGIN:DAYLIGHT
TZOFFSETFROM:-0800
TZOFFSETTO:-0700
TZNAME:PDT
DTSTART:20200308T100000
END:DAYLIGHT
BEGIN:STANDARD
TZOFFSETFROM:-0700
TZOFFSETTO:-0800
TZNAME:PST
DTSTART:20201101T090000
END:STANDARD
BEGIN:DAYLIGHT
TZOFFSETFROM:-0800
TZOFFSETTO:-0700
TZNAME:PDT
DTSTART:20210314T100000
END:DAYLIGHT
BEGIN:STANDARD
TZOFFSETFROM:-0700
TZOFFSETTO:-0800
TZNAME:PST
DTSTART:20211107T090000
END:STANDARD
BEGIN:DAYLIGHT
TZOFFSETFROM:-0800
TZOFFSETTO:-0700
TZNAME:PDT
DTSTART:20220313T100000
END:DAYLIGHT
BEGIN:STANDARD
TZOFFSETFROM:-0700
TZOFFSETTO:-0800
TZNAME:PST
DTSTART:20221106T090000
END:STANDARD
BEGIN:DAYLIGHT
TZOFFSETFROM:-0800
TZOFFSETTO:-0700
TZNAME:PDT
DTSTART:20230312T100000
END:DAYLIGHT
BEGIN:STANDARD
TZOFFSETFROM:-0700
TZOFFSETTO:-0800
TZNAME:PST
DTSTART:20231105T090000
END:STANDARD
END:VTIMEZONE
BEGIN:VEVENT
DTSTART;TZID=America/Los_Angeles:20231114T120000
DTEND;TZID=America/Los_Angeles:20231114T133000
DTSTAMP:20260425T164757
CREATED:20161231T185658Z
LAST-MODIFIED:20161231T185658Z
UID:10010434-1699963200-1699968600@faithinthebay.com
SUMMARY:First AME Oakland - New Year's Eve Service
DESCRIPTION:Bring in the New Year at FAME Oakland! \nDr. Harold R. Mayberry\, Senior Pastor \nwww.fameoakland.org
URL:http://faithinthebay.com/event/first-ame-oakland-new-years-eve-service/2023-11-14/
LOCATION:First AME Church\, 3701 Telegraph Avenue\, Oakland\, CA\, United States
CATEGORIES:Advent, Christmas, Watch Night, New Years
ATTACH;FMTTYPE=image/jpeg:http://faithinthebay.com/wp-content/uploads/2016/12/fame_oakland_nye_2016.jpg
GEO:37.8256707;-122.2654179
X-APPLE-STRUCTURED-LOCATION;VALUE=URI;X-ADDRESS=First AME Church 3701 Telegraph Avenue Oakland CA United States;X-APPLE-RADIUS=500;X-TITLE=3701 Telegraph Avenue:geo:-122.2654179,37.8256707
END:VEVENT
BEGIN:VEVENT
DTSTART;TZID=America/Los_Angeles:20201231T230000
DTEND;TZID=America/Los_Angeles:20201231T235900
DTSTAMP:20260425T164757
CREATED:20210101T004445Z
LAST-MODIFIED:20210101T004445Z
UID:10013909-1609455600-1609459140@faithinthebay.com
SUMMARY:First AME Church Oakland - New Year's Eve Service
DESCRIPTION:12 Noon & 11PM \nJoin us for service \nhttps://www.facebook.com/FAMEOAK
URL:http://faithinthebay.com/event/first-ame-church-oakland-new-years-eve-service/2020-12-31/2/
LOCATION:Streaming Online\, CA\, United States
CATEGORIES:Advent, Christmas, Watch Night, New Years
ATTACH;FMTTYPE=image/jpeg:http://faithinthebay.com/wp-content/uploads/2020/12/First_AME_Church_Oakland.jpg
GEO:36.778261;-119.4179324
END:VEVENT
BEGIN:VEVENT
DTSTART;TZID=America/Los_Angeles:20190811T160000
DTEND;TZID=America/Los_Angeles:20190811T180000
DTSTAMP:20260425T164757
CREATED:20190726T212534Z
LAST-MODIFIED:20190801T060301Z
UID:10013647-1565539200-1565546400@faithinthebay.com
SUMMARY:Dr. Harold R. Mayberry - Pastoral Anniversary Celebration
DESCRIPTION:Join us on August 11\, 2019 as we celebrate Rev. Dr. Harold R. Mayberry’s 23 years of faithful service and leadership. The program will be at 4pm and Bishop John R. Bryant\, Bishop-Retired the African Methodist Episcopal Church will be the guest speaker. \nThe Bible tells us in 1 Thessalonians 1:3\, “We remember before our God and Father your work produced by faith\, your labor prompted by love\, and your endurance inspired by hope in our Lord Jesus Christ.” \nWe hope you will join us for this spirit-filled celebration!
URL:http://faithinthebay.com/event/dr-harold-r-mayberry-pastoral-anniversary-celebration/
LOCATION:First AME Church\, 3701 Telegraph Avenue\, Oakland\, CA\, United States
CATEGORIES:Leadership & Community,Worship & Arts
ATTACH;FMTTYPE=image/jpeg:http://faithinthebay.com/wp-content/uploads/2019/07/mayberry-anniversary-2019.jpg
GEO:37.8256707;-122.2654179
X-APPLE-STRUCTURED-LOCATION;VALUE=URI;X-ADDRESS=First AME Church 3701 Telegraph Avenue Oakland CA United States;X-APPLE-RADIUS=500;X-TITLE=3701 Telegraph Avenue:geo:-122.2654179,37.8256707
END:VEVENT
BEGIN:VEVENT
DTSTART;TZID=America/Los_Angeles:20190421T060000
DTEND;TZID=America/Los_Angeles:20190421T080000
DTSTAMP:20260425T164758
CREATED:20190420T193353Z
LAST-MODIFIED:20190420T193512Z
UID:10013594-1555826400-1555833600@faithinthebay.com
SUMMARY:FAME Oakland - Easter Sunrise Service
DESCRIPTION:Join First AME Church for Easter Sunrise Service. Service begins at 6am \n\nDr. Harold Mayberry\, Senior Pastor\nFirst AME Church\nhttp://fameoakland.org
URL:http://faithinthebay.com/event/fame-oakland-easter-sunrise-service-2019/
LOCATION:First AME Church\, 3701 Telegraph Avenue\, Oakland\, CA\, United States
CATEGORIES:Holy Week - Sunrise - Easter,Worship & Arts
ATTACH;FMTTYPE=image/jpeg:http://faithinthebay.com/wp-content/uploads/2018/03/easter-icons-2018.jpg
GEO:37.8256707;-122.2654179
X-APPLE-STRUCTURED-LOCATION;VALUE=URI;X-ADDRESS=First AME Church 3701 Telegraph Avenue Oakland CA United States;X-APPLE-RADIUS=500;X-TITLE=3701 Telegraph Avenue:geo:-122.2654179,37.8256707
END:VEVENT
BEGIN:VEVENT
DTSTART;TZID=America/Los_Angeles:20190419T190000
DTEND;TZID=America/Los_Angeles:20190419T213000
DTSTAMP:20260425T164758
CREATED:20190413T010139Z
LAST-MODIFIED:20190413T010315Z
UID:10013563-1555700400-1555709400@faithinthebay.com
SUMMARY:First AME & Beebe Memorial – Seven Last Words Service
DESCRIPTION:First AME Oakland & Beebe Memorial Cathedral presents Good Friday: Seven Last Words of Jesus Christ on the Cross\, Friday\, April 19th – 7PM. \nFeaturing \n\nRev. Dana Spencer\nDr. Jacqueline Thompson\nBishop Teresa Jefferson-Snorton\nBishop Samuel L. Green\nBishop J.W. Macklin\n\nHosted by: Dr. Harold R. Mayberry\, First AME Oakland & Dr. Charley Hames\, Jr\, Beebe Memorial Cathedral \n\nCarpools\, Rideshare & Early arrival suggested
URL:http://faithinthebay.com/event/first-ame-beebe-memorial-seven-last-words-service-2019/
LOCATION:Beebe Memorial Cathedral\, 3900 Telegraph Avenue\, Oakland\, CA\, United States
CATEGORIES:Holy Week - Sunrise - Easter,Revival,Worship & Arts
ATTACH;FMTTYPE=image/jpeg:http://faithinthebay.com/wp-content/uploads/2019/04/IMG_0244.jpg
GEO:37.828319;-122.264236
X-APPLE-STRUCTURED-LOCATION;VALUE=URI;X-ADDRESS=Beebe Memorial Cathedral 3900 Telegraph Avenue Oakland CA United States;X-APPLE-RADIUS=500;X-TITLE=3900 Telegraph Avenue:geo:-122.264236,37.828319
END:VEVENT
BEGIN:VEVENT
DTSTART;TZID=America/Los_Angeles:20180611T183000
DTEND;TZID=America/Los_Angeles:20180611T200000
DTSTAMP:20260425T164758
CREATED:20180525T171455Z
LAST-MODIFIED:20180525T171455Z
UID:10013349-1528741800-1528747200@faithinthebay.com
SUMMARY:FAME Oakland - God & Guns: A Faith Led Discussion on Urban Gun Violence
DESCRIPTION:Hosted by FAME Oakland\, you’re invited to attend a faith-led discussion on urban gun violence and how the faith community can work to address the devastating impacts of gun violence in our community. \nRev. Dr. Harold Mayberry\, senior pastor of FAME Oakland\, will moderate the discussion. \nSpecial guests include: \nDesley Brooks\, Oakland Councilwoman \nCat Brooks\, Activist and Oakland mayoral candidate \nYouth Gun Violence Activists \nFamilies of victims Gun Violence \nand more….
URL:http://faithinthebay.com/event/fame-oakland-god-guns-a-faith-led-discussion-on-urban-gun-violence/
LOCATION:First AME Church\, 3701 Telegraph Avenue\, Oakland\, CA\, United States
CATEGORIES:Health & Wellness,Leadership & Community,Youth & Young Adults
ATTACH;FMTTYPE=image/jpeg:http://faithinthebay.com/wp-content/uploads/2018/05/fame-oakland-god-and-guns-a-faith-led-discussion-on-urban-gun-violence.jpg
GEO:37.8256707;-122.2654179
X-APPLE-STRUCTURED-LOCATION;VALUE=URI;X-ADDRESS=First AME Church 3701 Telegraph Avenue Oakland CA United States;X-APPLE-RADIUS=500;X-TITLE=3701 Telegraph Avenue:geo:-122.2654179,37.8256707
END:VEVENT
END:VCALENDAR