BEGIN:VCALENDAR
VERSION:2.0
PRODID:-//Faith in the Bay - ECPv6.2.7//NONSGML v1.0//EN
CALSCALE:GREGORIAN
METHOD:PUBLISH
X-ORIGINAL-URL:http://faithinthebay.com
X-WR-CALDESC:Events for Faith in the Bay
REFRESH-INTERVAL;VALUE=DURATION:PT1H
X-Robots-Tag:noindex
X-PUBLISHED-TTL:PT1H
BEGIN:VTIMEZONE
TZID:America/Los_Angeles
BEGIN:DAYLIGHT
TZOFFSETFROM:-0800
TZOFFSETTO:-0700
TZNAME:PDT
DTSTART:20170312T100000
END:DAYLIGHT
BEGIN:STANDARD
TZOFFSETFROM:-0700
TZOFFSETTO:-0800
TZNAME:PST
DTSTART:20171105T090000
END:STANDARD
END:VTIMEZONE
BEGIN:VEVENT
DTSTART;TZID=America/Los_Angeles:20170311T190000
DTEND;TZID=America/Los_Angeles:20170311T220000
DTSTAMP:20260419T114026
CREATED:20170211T033012Z
LAST-MODIFIED:20170211T033012Z
UID:10012953-1489258800-1489269600@faithinthebay.com
SUMMARY:Crown Him Presents - Checkmate
DESCRIPTION:Crown Him Presents its premier event\, “Checkmate.” This event will enable young millennials to meet new people\, make new friends\, and make new memories. There will be an assortment of favorite childhood board games throughout the venue. These games provide the perfect ice breaker to start a conversation with someone new. \nThere’s no need to use corny lines or to feel shy. Smooth R&B music will play in the background while people enjoy familiar board games; everyone should feel right at home. \nThere will be food and non-alcoholic drinks available for sale. \nTickets will be available for pick up at the door on the evening of the event. \nAll tickets are NON-REFUNDABLE! \n*21 & up \n*A valid government-issued photo ID of the purchaser is REQUIRED to pick up tickets at the door on the evening of the event.\n*Will call tickets must be picked up by the card holder ONLY. Alternate names for will call will not be allowed. All orders that do not have matching ID will be deleted. \nGames: Ping Pong\, Jenga\, Connect 4\, Uno\, Trouble\, Chess\, Checkers and more \n  \nGet Your Tickets
URL:http://faithinthebay.com/event/crown-presents-checkmate/
LOCATION:Parliament\, 811 Washington Street\, Oakland\, CA\, 94607\, United States
CATEGORIES:Food, Art & Culture,Worship & Arts,Youth & Young Adults
ATTACH;FMTTYPE=image/jpeg:http://faithinthebay.com/wp-content/uploads/2017/02/checkmate-event-2017.jpg
GEO:37.8010353;-122.2750367
X-APPLE-STRUCTURED-LOCATION;VALUE=URI;X-ADDRESS=Parliament 811 Washington Street Oakland CA 94607 United States;X-APPLE-RADIUS=500;X-TITLE=811 Washington Street:geo:-122.2750367,37.8010353
END:VEVENT
END:VCALENDAR