BEGIN:VCALENDAR
VERSION:2.0
PRODID:-//Faith in the Bay - ECPv6.2.7//NONSGML v1.0//EN
CALSCALE:GREGORIAN
METHOD:PUBLISH
X-ORIGINAL-URL:http://faithinthebay.com
X-WR-CALDESC:Events for Faith in the Bay
REFRESH-INTERVAL;VALUE=DURATION:PT1H
X-Robots-Tag:noindex
X-PUBLISHED-TTL:PT1H
BEGIN:VTIMEZONE
TZID:America/Los_Angeles
BEGIN:DAYLIGHT
TZOFFSETFROM:-0800
TZOFFSETTO:-0700
TZNAME:PDT
DTSTART:20160313T100000
END:DAYLIGHT
BEGIN:STANDARD
TZOFFSETFROM:-0700
TZOFFSETTO:-0800
TZNAME:PST
DTSTART:20161106T090000
END:STANDARD
BEGIN:DAYLIGHT
TZOFFSETFROM:-0800
TZOFFSETTO:-0700
TZNAME:PDT
DTSTART:20170312T100000
END:DAYLIGHT
BEGIN:STANDARD
TZOFFSETFROM:-0700
TZOFFSETTO:-0800
TZNAME:PST
DTSTART:20171105T090000
END:STANDARD
BEGIN:DAYLIGHT
TZOFFSETFROM:-0800
TZOFFSETTO:-0700
TZNAME:PDT
DTSTART:20180311T100000
END:DAYLIGHT
BEGIN:STANDARD
TZOFFSETFROM:-0700
TZOFFSETTO:-0800
TZNAME:PST
DTSTART:20181104T090000
END:STANDARD
BEGIN:DAYLIGHT
TZOFFSETFROM:-0800
TZOFFSETTO:-0700
TZNAME:PDT
DTSTART:20190310T100000
END:DAYLIGHT
BEGIN:STANDARD
TZOFFSETFROM:-0700
TZOFFSETTO:-0800
TZNAME:PST
DTSTART:20191103T090000
END:STANDARD
BEGIN:DAYLIGHT
TZOFFSETFROM:-0800
TZOFFSETTO:-0700
TZNAME:PDT
DTSTART:20200308T100000
END:DAYLIGHT
BEGIN:STANDARD
TZOFFSETFROM:-0700
TZOFFSETTO:-0800
TZNAME:PST
DTSTART:20201101T090000
END:STANDARD
BEGIN:DAYLIGHT
TZOFFSETFROM:-0800
TZOFFSETTO:-0700
TZNAME:PDT
DTSTART:20210314T100000
END:DAYLIGHT
BEGIN:STANDARD
TZOFFSETFROM:-0700
TZOFFSETTO:-0800
TZNAME:PST
DTSTART:20211107T090000
END:STANDARD
END:VTIMEZONE
BEGIN:VEVENT
DTSTART;TZID=America/Los_Angeles:20210227T093000
DTEND;TZID=America/Los_Angeles:20210227T134500
DTSTAMP:20260419T064142
CREATED:20210224T210813Z
LAST-MODIFIED:20210224T210813Z
UID:10013922-1614418200-1614433500@faithinthebay.com
SUMMARY:African American Family Support Group - You Are Not Alone Workshop
DESCRIPTION:The African American Family Support Group would like to formally invite you to a FREE Workshop. \nThis workshop will feature guest speakers Dr. Aaron Chapman and Ms. Dana Cook who will provide further support for families who are struggling with Mental Illness or Substance Abuse. The event will be held on Saturday\, February 27th from 9:30AM until 1:45PM via Zoom. Please make sure to register using the link provided below. A zoom link and instructions for the event will be sent out a day prior to the workshop to all registrants. \nIf you have any questions\, please let me know. Hope to see you there! \nRSVP here — https://bit.ly/NOTALONEFEB2021
URL:http://faithinthebay.com/event/african-american-family-support-group-you-are-not-alone-workshop-feb/
LOCATION:Streaming Online\, CA\, United States
CATEGORIES:Health & Wellness,Leadership & Community
ATTACH;FMTTYPE=image/jpeg:http://faithinthebay.com/wp-content/uploads/2021/02/you-are-not-alone-feb-2021.jpg
GEO:36.778261;-119.4179324
END:VEVENT
BEGIN:VEVENT
DTSTART;TZID=America/Los_Angeles:20200919T094500
DTEND;TZID=America/Los_Angeles:20200919T134500
DTSTAMP:20260419T064142
CREATED:20200918T063925Z
LAST-MODIFIED:20200918T063925Z
UID:10013858-1600508700-1600523100@faithinthebay.com
SUMMARY:You Are Not Alone - Free Virtual Workshop for Families Coping with Mental Illness & Substance Abuse
DESCRIPTION:Free Virtual Workshop for Families Coping with Mental Illness and/or Substance Abuse\n\nThe African American Family Support Group\, a program of the Mental Health Association of Alameda County\, will emphasize the “You Are Not Alone” theme in its upcoming workshop on Using Crisis Services in Alameda County and on Special Issues for African American Consideration in Working with a Psychiatrist. Because family caregivers require both support and information speakers will welcome questions.\n\nImproving Care For Those With Serious Mental Illness And/Or Substance Abuse Disorder\n\nYou Are Invited to Join the African American Family Support Group for an on-line meeting with featured speakers: \n* Dr. Aaron Chapman\, Medical Director\, Alameda County Behavioral Health Agency \n* Theresa Ly\, Program Specialist\, Alameda County Behavioral Health Agency \n\n\n\nRSVP Online: https://notalonesept2020.eventbrite.com/\n\nQuestions: call 510-697-8533
URL:http://faithinthebay.com/event/you-are-not-alone-free-virtual-workshop-for-families-coping-with-mental-illness-substance-abuse/
LOCATION:Streaming Online\, CA\, United States
CATEGORIES:Health & Wellness
ATTACH;FMTTYPE=image/jpeg:http://faithinthebay.com/wp-content/uploads/2020/09/you-are-not-alone-mental-health-workshop-2020.jpg
GEO:36.778261;-119.4179324
END:VEVENT
BEGIN:VEVENT
DTSTART;TZID=America/Los_Angeles:20200201T093000
DTEND;TZID=America/Los_Angeles:20200201T143000
DTSTAMP:20260419T064142
CREATED:20200129T160916Z
LAST-MODIFIED:20200129T160916Z
UID:10013794-1580549400-1580567400@faithinthebay.com
SUMMARY:African American Family Outreach Project - You Are Not Alone Workshop
DESCRIPTION:On Saturday\, February 1st\, 9:30am – 2:30pm\, the African American Family Outreach Project will host its free informational workshop “YOU ARE NOT ALONE\,” for African American families who seek support and care for those who are living with mental illness and/or addicted to drugs or alcohol with an opportunity to talk with several mental health professionals. \nOpen to the community\, the “You Are Not Alone” workshop is open to the entire community and will take place at the Charles Porter Golden Gate Recreation Center\, 1075 62nd Street\, Oakland\, CA. \nFamily members with lived experience say “when mental illness or substance abuse hit our loved ones\, we did not know where to turn. In these workshops\, we’re actually able to talk with the managing psychiatrist for Alameda County Behavioral Health Care Services and get answers! It’s made a huge difference.” \nTime will be offered for individuals to discuss symptoms\, causes and medications with a Alameda County psychiatrist Aaron Chapman – an expert in dealing with drug and alcohol problems and advice from experienced family members who are willing to help. \nLunch is provided free of charge. Advance registration is required for proper planning. Please RSVP by Thursday\, Jan 30th. \n  \nRSVP Required: http://youarenotalone2020.eventbrite.com/
URL:http://faithinthebay.com/event/african-american-family-outreach-project-you-are-not-alone-workshop/
LOCATION:Charles Porter Golden Gate Recreation Center\, 1075 62nd Street\, Oakland\, CA\, 94609\, United States
CATEGORIES:Health & Wellness,Leadership & Community
ATTACH;FMTTYPE=image/jpeg:http://faithinthebay.com/wp-content/uploads/2020/01/you-are-not-alone-mental-health-addiction-workshop.jpg
GEO:37.8450407;-122.2824303
X-APPLE-STRUCTURED-LOCATION;VALUE=URI;X-ADDRESS=Charles Porter Golden Gate Recreation Center 1075 62nd Street Oakland CA 94609 United States;X-APPLE-RADIUS=500;X-TITLE=1075 62nd Street:geo:-122.2824303,37.8450407
END:VEVENT
BEGIN:VEVENT
DTSTART;TZID=America/Los_Angeles:20191015T170000
DTEND;TZID=America/Los_Angeles:20191015T200000
DTSTAMP:20260419T064142
CREATED:20190920T165214Z
LAST-MODIFIED:20190920T165214Z
UID:10013709-1571158800-1571169600@faithinthebay.com
SUMMARY:Mental Health 101 for Clergy
DESCRIPTION:Alameda County Supervisor Keith Carson presents – Mental Health 101 for Clergy. \nWe’ve been hearing from clergy in District 5 that they’re being asked more frequently to assist congregants with mental health issues and don’t feel adequately trained to assist or know where to refer people who need professional help. \nThis will be an introduction to early signs and symptoms of mental illness experienced by individuals as well as the impact of complex trauma on the lives of individuals\, families\, and communities. \nAll denominations are welcome and encouraged to attend. \nSCHEDULE \n\n5:00 – 6:00 pm: Registration & Dinner\n6:00 – 7:30 pm: Workshop\n\n  \nClick here to register \n  \nFor questions or more information\, contact Amy Shrago: Amy.Shrago@acgov.org\, (510) 272-6695
URL:http://faithinthebay.com/event/mental-health-101-for-clergy/
LOCATION:First Congregational Church of Oakland\, 2501 Harrison Street\, Oakland\, CA\, 94612\, United States
CATEGORIES:Health & Wellness,Leadership & Community
ATTACH;FMTTYPE=image/jpeg:http://faithinthebay.com/wp-content/uploads/2019/09/mental-health-101-for-clergy-supervisor-keith-carson.jpg
GEO:37.8137846;-122.2610585
X-APPLE-STRUCTURED-LOCATION;VALUE=URI;X-ADDRESS=First Congregational Church of Oakland 2501 Harrison Street Oakland CA 94612 United States;X-APPLE-RADIUS=500;X-TITLE=2501 Harrison Street:geo:-122.2610585,37.8137846
END:VEVENT
BEGIN:VEVENT
DTSTART;TZID=America/Los_Angeles:20190622T093000
DTEND;TZID=America/Los_Angeles:20190622T143000
DTSTAMP:20260419T064142
CREATED:20190621T012936Z
LAST-MODIFIED:20190621T012936Z
UID:10013640-1561195800-1561213800@faithinthebay.com
SUMMARY:African American Families & Mental Illness & Drugs Workshop - "You Are Not Alone"
DESCRIPTION:On Saturday\, June 22\, 2019\, 9:30am – 2:30pm\, the African American Family Outreach Project will host its free informational workshop “YOU ARE NOT ALONE\,” for African American families who seek support and care for those who are living with mental illness and/or addicted to drugs or alcohol with an opportunity to talk with several mental health professionals.\n\nOpen to the community\, the “You Are Not Alone” workshop is open to the entire community and will take place at The Charles Porter Golden Gate Recreation Center\, 1075 62nd Street\, Oakland\, CA\n\nFamily members with lived experience say “when mental illness or substance abuse hit our loved ones\, we did not know where to turn. In these workshops\, we’re actually able to talk with the managing psychiatrist for Alameda County Behavioral Health Care Services and get answers! It’s made a huge difference.”\n\nTime will be offered for individuals to discuss symptoms\, causes and medications with a psychiatrist; an expert in dealing with drug and alcohol problems and advice from experienced family members who are willing to help.\n\nLunch is provided free of charge. Advance registration is required for proper lunch planning. The registration deadline is Thursday\, June 20th.
URL:http://faithinthebay.com/event/african-american-families-mental-illness-drugs-workshop-you-are-not-alone/
LOCATION:Charles Porter Golden Gate Recreation Center\, 1075 62nd Street\, Oakland\, CA\, 94609\, United States
CATEGORIES:Health & Wellness,Leadership & Community
ATTACH;FMTTYPE=image/jpeg:http://faithinthebay.com/wp-content/uploads/2019/06/you-are-not-alone-june-2019.jpg
GEO:37.8450407;-122.2824303
X-APPLE-STRUCTURED-LOCATION;VALUE=URI;X-ADDRESS=Charles Porter Golden Gate Recreation Center 1075 62nd Street Oakland CA 94609 United States;X-APPLE-RADIUS=500;X-TITLE=1075 62nd Street:geo:-122.2824303,37.8450407
END:VEVENT
BEGIN:VEVENT
DTSTART;TZID=America/Los_Angeles:20190427T093000
DTEND;TZID=America/Los_Angeles:20190427T143000
DTSTAMP:20260419T064142
CREATED:20190414T043741Z
LAST-MODIFIED:20190414T043741Z
UID:10013571-1556357400-1556375400@faithinthebay.com
SUMMARY:African American Family Support Group - You Are Not Alone Workshop
DESCRIPTION:On Saturday\, April 27\, 2019\, 9:30am – 2:30pm\, the African American Family Outreach Project will host its free informational workshop “YOU ARE NOT ALONE\,” for African American families who seek support and care for those who are living with mental illness and/or addicted to drugs or alcohol with an opportunity to talk with several mental health professionals.\n \n\nOpen to the community\, the “You Are Not Alone” workshop is open to the entire community and will take place at the North Oakland Senior Center\, 5714 Martin Luther King Jr Way\, Oakland\, CA (ample parking is available around back of the Senior Center). RSVP today!\n\nFamily members with lived experience say “when mental illness or substance abuse hit our loved ones\, we did not know where to turn. In these workshops\, we’re actually able to talk with the managing psychiatrist for Alameda County Behavioral Health Care Services and get answers! It’s made a huge difference.”\n\nInterim Director of Alameda County Behavioral Health Services\, Carol Burton\, will attend the meeting and wants to hear families’ concerns and comments.\n\nTime will be offered for individuals to discuss symptoms\, causes and medications with a psychiatrist; an expert in dealing with drug and alcohol problems and advice from experienced family members who are willing to help.\n\nLunch is provided free of charge. Advance registration is required for proper planning. The registration deadline is Thursday\, April 25th.
URL:http://faithinthebay.com/event/african-american-family-support-group-you-are-not-alone-workshop/
LOCATION:North Oakland Senior Center\, 5714 Martin Luther King Jr Way\, Oakland\, CA\, United States
CATEGORIES:Health & Wellness,Leadership & Community
ATTACH;FMTTYPE=image/jpeg:http://faithinthebay.com/wp-content/uploads/2019/04/afam-health-wellness-you-are-not-alone-apr2019.jpg
GEO:37.8428693;-122.2692479
X-APPLE-STRUCTURED-LOCATION;VALUE=URI;X-ADDRESS=North Oakland Senior Center 5714 Martin Luther King Jr Way Oakland CA United States;X-APPLE-RADIUS=500;X-TITLE=5714 Martin Luther King Jr Way:geo:-122.2692479,37.8428693
END:VEVENT
BEGIN:VEVENT
DTSTART;TZID=America/Los_Angeles:20190126T093000
DTEND;TZID=America/Los_Angeles:20190126T143000
DTSTAMP:20260419T064142
CREATED:20190106T052812Z
LAST-MODIFIED:20190106T052812Z
UID:10013475-1548495000-1548513000@faithinthebay.com
SUMMARY:You Are Not Alone - FREE Mental Health Workshop
DESCRIPTION:The African American Family Outreach Project will host “YOU ARE NOT ALONE\,” a free informational workshop for African American families who seek support and care for those who are living with mental illness and/or addicted to drugs or alcohol with an opportunity to talk with several mental health professionals. \nLunch included. Registration Required: http://bit.ly/2sc2Er2 \n  \n 
URL:http://faithinthebay.com/event/you-are-not-alone-free-mental-health-workshop/
LOCATION:The Ed Roberts Campus\, 3075 Adeline Street\, Berkeley\, CA\, 94703\, United States
CATEGORIES:Health & Wellness,Leadership & Community
ATTACH;FMTTYPE=image/jpeg:http://faithinthebay.com/wp-content/uploads/2019/01/african-american-family-support-group-mental-health-workshop-berkeley-2018.jpg
ORGANIZER;CN="Mental Health Association of Alameda County":MAILTO:mail@mhaac.org
GEO:37.8525893;-122.2695929
X-APPLE-STRUCTURED-LOCATION;VALUE=URI;X-ADDRESS=The Ed Roberts Campus 3075 Adeline Street Berkeley CA 94703 United States;X-APPLE-RADIUS=500;X-TITLE=3075 Adeline Street:geo:-122.2695929,37.8525893
END:VEVENT
BEGIN:VEVENT
DTSTART;TZID=America/Los_Angeles:20181122T190000
DTEND;TZID=America/Los_Angeles:20181122T203000
DTSTAMP:20260419T064142
CREATED:20180525T071439Z
LAST-MODIFIED:20180525T071439Z
UID:10013348-1542913200-1542918600@faithinthebay.com
SUMMARY:Kingdom Family Resources - Mental Health Education Classes
DESCRIPTION:Kingdom Family Resources is excited to announce the launching of our Mental Health Education classes that will address Mental Health issues impacting families in our churches and communities. \nCOST:\nPer Session Cost is $20 for individual; $30 for family 2 or more; kids 10 and up are welcome; (childcare will not be provided) \nThis will be a time to receive education regarding various Mental Health issues; the first session will focus on Family Trauma: impact on the body\, mind\, and family \nOther sessions will include:\nManaging depression\nBi polar disorders\nPost Traumatic Stress\nParenting issues\nMental Health and Faith\nand other topics related to managing Mental Health and daily living. \nRegister at https://kingdomfamilyresources.com/educational-classes/
URL:http://faithinthebay.com/event/kingdom-family-resources-mental-health-education-classes/2018-11-22/
LOCATION:Silicon Valley Business Center\, 1900 Camden Avenue\, San Jose\, CA\, United States
CATEGORIES:Health & Wellness,Leadership & Community
ATTACH;FMTTYPE=image/jpeg:http://faithinthebay.com/wp-content/uploads/2018/05/kingdon-family-resources-mental-health-education-classes.jpg
GEO:37.2613943;-121.9237111
X-APPLE-STRUCTURED-LOCATION;VALUE=URI;X-ADDRESS=Silicon Valley Business Center 1900 Camden Avenue San Jose CA United States;X-APPLE-RADIUS=500;X-TITLE=1900 Camden Avenue:geo:-121.9237111,37.2613943
END:VEVENT
BEGIN:VEVENT
DTSTART;TZID=America/Los_Angeles:20181110T093000
DTEND;TZID=America/Los_Angeles:20181110T143000
DTSTAMP:20260419T064142
CREATED:20181029T034639Z
LAST-MODIFIED:20181029T034639Z
UID:10013403-1541842200-1541860200@faithinthebay.com
SUMMARY:African American Family Outreach Project - Health & Wellness Workshop
DESCRIPTION:On Saturday\, November 10\, 2018\, the African American Family Outreach Project will host a special workshop from 9:30 am – 2:30 pm at the Alameda County Training & Education Center\, 125 12th St.\, Suite 400\, Oakland \nThe free workshop series offers family members who seek support and care for those who are living with mental illness and/or addicted to drugs or alcohol with an opportunity to talk with several mental health professionals. \nFamily members with lived experience say “when mental illness or substance abuse hit our loved ones\, we did not know where to turn. In these workshops\, we’re actually able to talk with the managing psychiatrist for Alameda County Behavioral Health Care Services and get answers! It’s made a huge difference.” \nAmple time will be provided for individuals to discuss symptoms\, causes and medications with a psychiatrist; an expert in dealing with drug and alcohol problems and advice from experienced family members who are willing to help. \nA free lunch is provided\, so advance registration is required. \nRegistration deadline: Thursday\, November 8th: http://africanamericanfamilies1110.eventbrite.com
URL:http://faithinthebay.com/event/african-american-family-outreach-project-health-wellness-workshop/
LOCATION:Alameda County Training & Education Center\, 125 12th Street\, Oakland\, CA\, United States
CATEGORIES:Health & Wellness,Leadership & Community
ATTACH;FMTTYPE=image/jpeg:http://faithinthebay.com/wp-content/uploads/2018/10/African-American-Family-Outreach-Project-2018.jpg
GEO:37.799671;-122.264281
X-APPLE-STRUCTURED-LOCATION;VALUE=URI;X-ADDRESS=Alameda County Training & Education Center 125 12th Street Oakland CA United States;X-APPLE-RADIUS=500;X-TITLE=125 12th Street:geo:-122.264281,37.799671
END:VEVENT
BEGIN:VEVENT
DTSTART;TZID=America/Los_Angeles:20180421T100000
DTEND;TZID=America/Los_Angeles:20180421T123000
DTSTAMP:20260419T064142
CREATED:20180501T203814Z
LAST-MODIFIED:20180501T203814Z
UID:10013331-1524304800-1524313800@faithinthebay.com
SUMMARY:Mental Health in the Church Conference
DESCRIPTION:A candid conversation that will provide relevant information for the Church to look at the realization of mental health and its affects on its members. \nHosted by: Dr. Lakita Long \nhttp://mhic.splashthat.com
URL:http://faithinthebay.com/event/mental-health-in-the-church-conference/
LOCATION:Abundant Life Christian Center\, 1521 Derby Street\, Berkeley\, CA\, United States
CATEGORIES:Health & Wellness,Leadership & Community
ATTACH;FMTTYPE=image/jpeg:http://faithinthebay.com/wp-content/uploads/2018/05/mental-health-berkeley.jpg
GEO:37.859088;-122.279297
X-APPLE-STRUCTURED-LOCATION;VALUE=URI;X-ADDRESS=Abundant Life Christian Center 1521 Derby Street Berkeley CA United States;X-APPLE-RADIUS=500;X-TITLE=1521 Derby Street:geo:-122.279297,37.859088
END:VEVENT
BEGIN:VEVENT
DTSTART;TZID=America/Los_Angeles:20161025T120000
DTEND;TZID=America/Los_Angeles:20161025T153000
DTSTAMP:20260419T064142
CREATED:20161013T035916Z
LAST-MODIFIED:20161013T045325Z
UID:10002743-1477396800-1477409400@faithinthebay.com
SUMMARY:A Safe Place - National Clergy Summit: Faith and Domestic Violence in African American Communities
DESCRIPTION:A Safe Place – National Clergy Summit: Faith and Domestic Violence in African American Communities. \nKeynote Speaker: \n\nDr. Oliver Williams\, African American Domestic Peace Project (AADPP) \n\nTopics \n\nBreaking The Silence: Clergy Who Experience Domestic Violence.\nCreating Domestic Violence Programs in Faith-Based Organizations.\nSafe Return Initiative for African American Men Returning to the Community.\n\nSpeakers \nWho Should Attend? \nFaith-based leaders interested in creating programs and learning new strategies for victims and perpetrators within their congregation. \n  \nOnline Registration |  For more information\, contact us at 510.986.8600 ext. 310 \nOr visit us at asafeplacedvs.org
URL:http://faithinthebay.com/event/safe-place-national-clergy-summit-faith-domestic-violence-african-american-communities/
LOCATION:The California Endowment\, 1111 Broadway\, 7th Floor\, Oakland\, CA\, United States
CATEGORIES:Health & Wellness,Leadership & Community,Women's Empowerment
ATTACH;FMTTYPE=image/jpeg:http://faithinthebay.com/wp-content/uploads/2016/10/A-Safe-Place-Domestic-Violence-Mental-Health-Clergy-Summit-2016.jpg
GEO:37.8027679;-122.2729398
X-APPLE-STRUCTURED-LOCATION;VALUE=URI;X-ADDRESS=The California Endowment 1111 Broadway 7th Floor Oakland CA United States;X-APPLE-RADIUS=500;X-TITLE=1111 Broadway\, 7th Floor:geo:-122.2729398,37.8027679
END:VEVENT
END:VCALENDAR