BEGIN:VCALENDAR
VERSION:2.0
PRODID:-//Faith in the Bay - ECPv6.2.7//NONSGML v1.0//EN
CALSCALE:GREGORIAN
METHOD:PUBLISH
X-ORIGINAL-URL:http://faithinthebay.com
X-WR-CALDESC:Events for Faith in the Bay
REFRESH-INTERVAL;VALUE=DURATION:PT1H
X-Robots-Tag:noindex
X-PUBLISHED-TTL:PT1H
BEGIN:VTIMEZONE
TZID:America/Los_Angeles
BEGIN:DAYLIGHT
TZOFFSETFROM:-0800
TZOFFSETTO:-0700
TZNAME:PDT
DTSTART:20170312T100000
END:DAYLIGHT
BEGIN:STANDARD
TZOFFSETFROM:-0700
TZOFFSETTO:-0800
TZNAME:PST
DTSTART:20171105T090000
END:STANDARD
END:VTIMEZONE
BEGIN:VEVENT
DTSTART;TZID=America/Los_Angeles:20170127T180000
DTEND;TZID=America/Los_Angeles:20170127T210000
DTSTAMP:20260419T140848
CREATED:20170126T012957Z
LAST-MODIFIED:20170126T012957Z
UID:10002629-1485540000-1485550800@faithinthebay.com
SUMMARY:Shiloh Church Oakland - Youth & Young Adult Set Apart Conference
DESCRIPTION:Set Apart Conference\nJanuary 27th – January 28th\n[Set Apart] is a conference for youth and young adults to encounter God and empower leaders. This 2-day experience is to bring churches and pastors from all over the bay area to see God plant a call in our lives to be [Set Apart] for His purpose. \n $20 per person  //  Group Pricing Available\n  \nConference Schedule\nFRIDAY // JANUARY 27TH \n6:00PM // Registration \n6:45PM // Doors Open \n7:00PM // General Session \n9:00PM // Close \nSATURDAY // JANUARY 28TH \n8:30AM // Registration // Donuts \n9:00AM // Doors Open \n9:30AM // General Session \n10:30AM // Lab Session 1 \n11:30AM // Lab Session 2 \n12:30PM // Lunch Break \n2:00PM // Special performance by : Freedom Speaks \nEVENING \n6:00PM // Cafe Open \n6:30PM // Doors Open \n7:00PM /General Session \n9:00PM // Close \n  \nFor more information\, please visit http://shilohchurch.com/set-apart/
URL:http://faithinthebay.com/event/shiloh-church-oakland-set-apart-youth-young-adult-conference/2017-01-27/2/
LOCATION:Shiloh Church Oakland\, 3295 School Street\, Oakland\, CA\, United States
CATEGORIES:Gospel Concert,Prayer Service,Worship & Arts,Youth & Young Adults
ATTACH;FMTTYPE=image/jpeg:http://faithinthebay.com/wp-content/uploads/2017/01/shiloh-church-oakland-set-apart-conference.jpg
GEO:37.7923949;-122.208146
X-APPLE-STRUCTURED-LOCATION;VALUE=URI;X-ADDRESS=Shiloh Church Oakland 3295 School Street Oakland CA United States;X-APPLE-RADIUS=500;X-TITLE=3295 School Street:geo:-122.208146,37.7923949
END:VEVENT
END:VCALENDAR