BEGIN:VCALENDAR
VERSION:2.0
PRODID:-//Faith in the Bay - ECPv6.2.7//NONSGML v1.0//EN
CALSCALE:GREGORIAN
METHOD:PUBLISH
X-ORIGINAL-URL:http://faithinthebay.com
X-WR-CALDESC:Events for Faith in the Bay
REFRESH-INTERVAL;VALUE=DURATION:PT1H
X-Robots-Tag:noindex
X-PUBLISHED-TTL:PT1H
BEGIN:VTIMEZONE
TZID:America/Los_Angeles
BEGIN:DAYLIGHT
TZOFFSETFROM:-0800
TZOFFSETTO:-0700
TZNAME:PDT
DTSTART:20160313T100000
END:DAYLIGHT
BEGIN:STANDARD
TZOFFSETFROM:-0700
TZOFFSETTO:-0800
TZNAME:PST
DTSTART:20161106T090000
END:STANDARD
END:VTIMEZONE
BEGIN:VEVENT
DTSTART;VALUE=DATE:20160318
DTEND;VALUE=DATE:20160320
DTSTAMP:20260421T161213
CREATED:20160319T201250Z
LAST-MODIFIED:20160319T201250Z
UID:10000085-1458259200-1458431999@faithinthebay.com
SUMMARY:Kingdom Encounter
DESCRIPTION:Kingdom Empowered Fellowship of Churches invites you to the Kingdom Encounter! Come & Worship\, March 18-19th \n 
URL:http://faithinthebay.com/event/kingdom-encounter/
LOCATION:Center of Grace Ministries\, 825 Athens Avenue\, Oakland\, CA\, United States
CATEGORIES:Revival,Worship & Arts
ATTACH;FMTTYPE=image/jpeg:http://faithinthebay.com/wp-content/uploads/2016/03/KE_2016.jpg
GEO:37.8153239;-122.275963
X-APPLE-STRUCTURED-LOCATION;VALUE=URI;X-ADDRESS=Center of Grace Ministries 825 Athens Avenue Oakland CA United States;X-APPLE-RADIUS=500;X-TITLE=825 Athens Avenue:geo:-122.275963,37.8153239
END:VEVENT
BEGIN:VEVENT
DTSTART;TZID=America/Los_Angeles:20160319T120000
DTEND;TZID=America/Los_Angeles:20160319T140000
DTSTAMP:20260421T161214
CREATED:20160319T095433Z
LAST-MODIFIED:20160319T095433Z
UID:10000069-1458388800-1458396000@faithinthebay.com
SUMMARY:Talk\, Read and Sing Family Celebration
DESCRIPTION:Allen Temple Baptist Church\, the Passage to Promiseland Children’s Educational & Activity Center\, and our valued Community Partners\, the Kenneth Rainin Foundation\, First 5 California and Literacy Lab present the Talk\, Read and Sing Family Celebration on Saturday\, March 19 from 12 Noon to 2pm! \nLearn how talking\, reading and singing to your children from birth to age five can help them later in school! Enjoy refreshments\, activities for kids\, door prizes & giveaways\, and music and entertainment featuring the Allen Temple Children’s Choir! \nFor more information\, contact Rev. Lana Rice at (510) 544-3362.
URL:http://faithinthebay.com/event/talk-read-sing-family-celebration/
LOCATION:Allen Temple Baptist Church\, 8501 International Blvd\, Oakland\, CA\, United States
CATEGORIES:Family Fun,Leadership & Community
ATTACH;FMTTYPE=image/jpeg:http://faithinthebay.com/wp-content/uploads/2016/03/TRS-Flyer1A-1.jpg
GEO:37.7526927;-122.1774698
X-APPLE-STRUCTURED-LOCATION;VALUE=URI;X-ADDRESS=Allen Temple Baptist Church 8501 International Blvd Oakland CA United States;X-APPLE-RADIUS=500;X-TITLE=8501 International Blvd:geo:-122.1774698,37.7526927
END:VEVENT
BEGIN:VEVENT
DTSTART;VALUE=DATE:20160320
DTEND;VALUE=DATE:20160326
DTSTAMP:20260421T161214
CREATED:20160318T004947Z
LAST-MODIFIED:20160319T093835Z
UID:10000029-1458432000-1458950399@faithinthebay.com
SUMMARY:Oakland City Wide Revival 2016
DESCRIPTION:All are invited to the 2016 Oakland City Wide Revival\, hosted by the Baptist Ministers Union of Oakland and Vicinity. Don’t miss this annual Bay Area tradition\, featuring guest revivalists Dr. Tolan Morgan\, and Dr. Stephen Thurston. Day and evening services held nightly\, March 20-25. \nDr. Gregory B. Payton\, President & Host Pastor
URL:http://faithinthebay.com/event/oakland-city-wide-revival-2016/
LOCATION:Greater St. John Missionary Baptist Church\, 1909 Market Street\, Oakland\, CA\, United States
CATEGORIES:Holy Week - Sunrise - Easter,Revival
ATTACH;FMTTYPE=image/jpeg:http://faithinthebay.com/wp-content/uploads/2016/03/bayareacitywide2016.jpg
GEO:37.8119351;-122.279959
X-APPLE-STRUCTURED-LOCATION;VALUE=URI;X-ADDRESS=Greater St. John Missionary Baptist Church 1909 Market Street Oakland CA United States;X-APPLE-RADIUS=500;X-TITLE=1909 Market Street:geo:-122.279959,37.8119351
END:VEVENT
BEGIN:VEVENT
DTSTART;VALUE=DATE:20160320
DTEND;VALUE=DATE:20160326
DTSTAMP:20260421T161214
CREATED:20160318T005456Z
LAST-MODIFIED:20160318T011209Z
UID:10000031-1458432000-1458950399@faithinthebay.com
SUMMARY:Sacramento City Wide 2016
DESCRIPTION:All are invited to the 2016 Sacramento City Wide Revival\, hosted by the Sacramento Baptist Ministers Conference. Don’t miss this annual Sacramento tradition\, featuring guest revivalists Dr. Sedric D. Veal\, Sr. Evening services held nightly\, March 20-25. \nDr. Ephriam Williams\, Host Pastor \nDr. Shelby Richards\, President \nhttp://www.harmonychurch.net/citywide 
URL:http://faithinthebay.com/event/sacramento-city-wide-2016/
LOCATION:St. Paul Missionary Baptist Church\, 3996 14th Avenue\, Sacramento\, CA\, United States
CATEGORIES:Holy Week - Sunrise - Easter,Revival
ATTACH;FMTTYPE=image/jpeg:http://faithinthebay.com/wp-content/uploads/2016/03/51st-annual-sacrament-city-wide-revival-2016.jpeg
ORGANIZER;CN="Greater Sacramento & Vicinity Baptist Ministers Alliance":MAILTO:gsvbma@gmail.com
GEO:38.5389079;-121.4606731
X-APPLE-STRUCTURED-LOCATION;VALUE=URI;X-ADDRESS=St. Paul Missionary Baptist Church 3996 14th Avenue Sacramento CA United States;X-APPLE-RADIUS=500;X-TITLE=3996 14th Avenue:geo:-121.4606731,38.5389079
END:VEVENT
BEGIN:VEVENT
DTSTART;VALUE=DATE:20160320
DTEND;VALUE=DATE:20160326
DTSTAMP:20260421T161214
CREATED:20160318T011658Z
LAST-MODIFIED:20160318T015255Z
UID:10000058-1458432000-1458950399@faithinthebay.com
SUMMARY:San Francisco City Wide 2016
DESCRIPTION:All are invited to the 2016 San Francisco City Wide Revival\, hosted by the San Francisco Baptist Ministers Conference. Don’t miss this annual Bay Area tradition\, featuring guest revivalists Dr. T.K. Anderson (Lily Grove Baptist Church\, Houston\, TX)\, and Dr. John R. Adolph (Antioch Baptist Church\, Beaumont\, TX). Day and evening services are being offered\, March 20-25. \n\nMORNING SERVICE: 11AM  |  New Providence Baptist Church\n218 Granada St.\, San Francisco – Rev. Michael Gilmore (Host Pastor) \nEVENING SERVICE: 6:30PM | Cornerstone Baptist Church\n6190 Third St.\, San Francisco – Rev. Kenneth Reece (Host Pastor)
URL:http://faithinthebay.com/event/san-francisco-city-wide-2016/
LOCATION:CA
CATEGORIES:Holy Week - Sunrise - Easter,Revival
ATTACH;FMTTYPE=image/jpeg:http://faithinthebay.com/wp-content/uploads/2016/03/SF_CityWide_2016.jpg
END:VEVENT
BEGIN:VEVENT
DTSTART;VALUE=DATE:20160320
DTEND;VALUE=DATE:20160326
DTSTAMP:20260421T161214
CREATED:20160319T232628Z
LAST-MODIFIED:20160319T232754Z
UID:10000022-1458432000-1458950399@faithinthebay.com
SUMMARY:Bethel Temple Petecostal Church - Holy Week Revival
DESCRIPTION:Enjoy and get strength from six powerful nights of great Christian Fellowship. Incredible Preaching\, Praying and Praise. \n\nBishop Clifton Jones – Agape Love Ministries Int’l (Sandusky\, OH)\nBishop George Wordlaw\, III – Lily of the Valley (Oakland\, CA)\nBishop Billy Wydermyer – Bethel Temple Pentecostal Church (Richmond\, CA)\nBishop Bob Jackson – Acts Full Gospel COGIC (Oakland\, CA)\nBishop K.R. Woods – Covenant Worship Center (Berkeley\, CA)\n\nPastor K.J. Williams & 1st Lady Williams\, Holy Week Coordinator \nBishop Billy Wydermyer\, Host Pastor
URL:http://faithinthebay.com/event/bethel-temple-petecostal-church-holy-week-revival-2016/
LOCATION:Bethel Temple Pentecostal Church\, 3429 Cutting Blvd\, Richmond\, CA\, 94804\, United States
CATEGORIES:Holy Week - Sunrise - Easter,Revival
ATTACH;FMTTYPE=image/jpeg:http://faithinthebay.com/wp-content/uploads/2016/03/BT_HolyWeekRevival_2016.jpg
GEO:37.9256102;-122.3363476
X-APPLE-STRUCTURED-LOCATION;VALUE=URI;X-ADDRESS=Bethel Temple Pentecostal Church 3429 Cutting Blvd Richmond CA 94804 United States;X-APPLE-RADIUS=500;X-TITLE=3429 Cutting Blvd:geo:-122.3363476,37.9256102
END:VEVENT
BEGIN:VEVENT
DTSTART;TZID=America/Los_Angeles:20160320T170000
DTEND;TZID=America/Los_Angeles:20160320T200000
DTSTAMP:20260421T161214
CREATED:20160319T090008Z
LAST-MODIFIED:20160319T090008Z
UID:10000063-1458493200-1458504000@faithinthebay.com
SUMMARY:Palm Sunday Gospel Musical Celebration
DESCRIPTION:Featuring: Leonard Bailey & Friends\nSpecial guest artist: EK Dawson and the North Bay Community Choir\, Demetrius Tolefree\, Lawrence Matthews\, and Tanya Fitzgerald\nwith: Evangelist Jacqueline Melton\, Minister Desmond Williams\, and Pastor Jabari Corgile \nHosted by: Pastor Kenneth Smith – Sr. Pastor of Love Center Ministries \nAdmission is free
URL:http://faithinthebay.com/event/palm-sunday-gospel-musical-celebration/
LOCATION:Love Center Ministries\, 10440 International Blvd\, Oakland\, CA\, United States
CATEGORIES:Gospel Concert,Holy Week - Sunrise - Easter,Worship & Arts
ATTACH;FMTTYPE=image/jpeg:http://faithinthebay.com/wp-content/uploads/2016/03/LM_PalmSunday_2016.jpg
GEO:37.7397821;-122.166558
X-APPLE-STRUCTURED-LOCATION;VALUE=URI;X-ADDRESS=Love Center Ministries 10440 International Blvd Oakland CA United States;X-APPLE-RADIUS=500;X-TITLE=10440 International Blvd:geo:-122.166558,37.7397821
END:VEVENT
END:VCALENDAR