BEGIN:VCALENDAR
VERSION:2.0
PRODID:-//Faith in the Bay - ECPv6.2.7//NONSGML v1.0//EN
CALSCALE:GREGORIAN
METHOD:PUBLISH
X-WR-CALNAME:Faith in the Bay
X-ORIGINAL-URL:http://faithinthebay.com
X-WR-CALDESC:Events for Faith in the Bay
REFRESH-INTERVAL;VALUE=DURATION:PT1H
X-Robots-Tag:noindex
X-PUBLISHED-TTL:PT1H
BEGIN:VTIMEZONE
TZID:America/Los_Angeles
BEGIN:DAYLIGHT
TZOFFSETFROM:-0800
TZOFFSETTO:-0700
TZNAME:PDT
DTSTART:20170312T100000
END:DAYLIGHT
BEGIN:STANDARD
TZOFFSETFROM:-0700
TZOFFSETTO:-0800
TZNAME:PST
DTSTART:20171105T090000
END:STANDARD
END:VTIMEZONE
BEGIN:VEVENT
DTSTART;TZID=America/Los_Angeles:20170903T193000
DTEND;TZID=America/Los_Angeles:20170903T223000
DTSTAMP:20260422T052610
CREATED:20170811T003450Z
LAST-MODIFIED:20170811T022059Z
UID:10013066-1504467000-1504477800@faithinthebay.com
SUMMARY:Back to Holiness Convocation
DESCRIPTION:Join the Bethlehem Temple Word of Faith Apostolic Church family for the 2017 Back to Holiness Convocation. \nTheme: “Putting on the Whole Armor of God” (Ephesians 6:10-18). \nFeaturing: \n\nBishop J. Drew Sheard\nBishop J.W. Macklin\nBishop Liston Page\n\nConversation Speakers (6:30pm Nightly) \n\nPastor Jabari Corgile\nPastor Bessie Corgile\nPastor James Edwards\nMinister Lakita Long\n\nMusical Guest Artists: \n\nMinister Duane Lynn\nMinister Johnathan Johnson\nMinister K.Ross
URL:http://faithinthebay.com/event/back-holiness-convocation-2017/2017-09-03/
LOCATION:Bethlehem Temple Word of Faith Apostolic Church\, 1521 Derby Street\, Berkeley\, CA\, 94703\, United States
CATEGORIES:Revival,Worship & Arts,Youth & Young Adults
ATTACH;FMTTYPE=image/jpeg:http://faithinthebay.com/wp-content/uploads/2017/08/back-to-holiness-convocation-1-2017.jpg
ORGANIZER;CN="Bethlehem Temple Word of Faith Apostolic Church":MAILTO:Contact@btapostolicchurch.com
GEO:37.859088;-122.279297
X-APPLE-STRUCTURED-LOCATION;VALUE=URI;X-ADDRESS=Bethlehem Temple Word of Faith Apostolic Church 1521 Derby Street Berkeley CA 94703 United States;X-APPLE-RADIUS=500;X-TITLE=1521 Derby Street:geo:-122.279297,37.859088
END:VEVENT
END:VCALENDAR