BEGIN:VCALENDAR
VERSION:2.0
PRODID:-//Faith in the Bay - ECPv6.2.7//NONSGML v1.0//EN
CALSCALE:GREGORIAN
METHOD:PUBLISH
X-WR-CALNAME:Faith in the Bay
X-ORIGINAL-URL:http://faithinthebay.com
X-WR-CALDESC:Events for Faith in the Bay
REFRESH-INTERVAL;VALUE=DURATION:PT1H
X-Robots-Tag:noindex
X-PUBLISHED-TTL:PT1H
BEGIN:VTIMEZONE
TZID:America/Los_Angeles
BEGIN:DAYLIGHT
TZOFFSETFROM:-0800
TZOFFSETTO:-0700
TZNAME:PDT
DTSTART:20170312T100000
END:DAYLIGHT
BEGIN:STANDARD
TZOFFSETFROM:-0700
TZOFFSETTO:-0800
TZNAME:PST
DTSTART:20171105T090000
END:STANDARD
END:VTIMEZONE
BEGIN:VEVENT
DTSTART;TZID=America/Los_Angeles:20171210T160000
DTEND;TZID=America/Los_Angeles:20171210T180000
DTSTAMP:20260420T050428
CREATED:20171206T080610Z
LAST-MODIFIED:20171206T080610Z
UID:10013103-1512921600-1512928800@faithinthebay.com
SUMMARY:Eloquence From Eve - A Spoken Word Event
DESCRIPTION:Get ready to SNAP THOSE FINGERS! Come out and hear some of Bay Area Talented Spoken Word Artists! If you love poetry\, you should be in the building! Such a talented line-up! For everyone\, including MEN. Recommended age for youth 13 – up! \nAn afternoon filled with empowerment\, inspiration\, and liberation for all attendees. A great outing for the whole family. We encourage and welcome each attendee to invite guests. Unable to attend\, sponsor an individual. \nProceeds directly benefit Created Wonderfully a California 501(c)3 Nonprofit Organization. \nAdmission $10 | Purchase Online \nTickets are limited\, secure your seats today!
URL:http://faithinthebay.com/event/eloquence-from-eve-a-spoken-word-event/
LOCATION:California Maritime Academy\, 200 Maritime Academy Drive\, Vallejo\, CA\, 94590\, United States
CATEGORIES:Family Fun,Women's Empowerment,Worship & Arts
ATTACH;FMTTYPE=image/jpeg:http://faithinthebay.com/wp-content/uploads/2017/12/eloquence-from-eve-a-spoken-word-event-created-wonderfully.jpg
ORGANIZER;CN="Created Wonderfully%2C Inc.":MAILTO:beyou@createdwonderfully.org
GEO:38.0692105;-122.2325063
X-APPLE-STRUCTURED-LOCATION;VALUE=URI;X-ADDRESS=California Maritime Academy 200 Maritime Academy Drive Vallejo CA 94590 United States;X-APPLE-RADIUS=500;X-TITLE=200 Maritime Academy Drive:geo:-122.2325063,38.0692105
END:VEVENT
BEGIN:VEVENT
DTSTART;TZID=America/Los_Angeles:20170930T100000
DTEND;TZID=America/Los_Angeles:20170930T150000
DTSTAMP:20260420T050428
CREATED:20170924T002549Z
LAST-MODIFIED:20170926T163825Z
UID:10013084-1506765600-1506783600@faithinthebay.com
SUMMARY:I Am Enough Women's Empowerment Conference
DESCRIPTION:We are uplifting each other as women! It’s a day of celebration and of letting go of things. Things may happen to us but it DOES NOT define who were are as women! \nDon’t miss your opportunity to secure a seat at an event that is sure to not leave you the same as you arrive. Invite friends\, family to join you. We are ready to unlock your greatest possibilities as we help you to understand and know “You Are Enough! \nPresenters Include: \n\nRochelle Reed\, Founder\nSabrina Word\nMelissa Nickson\nAleesha Barlow\nMin. Erika Godfrey\nMin. Camille Hudson\nMin. Jessica Booker\, Prayer Leader\nJasmine Hamilton\, Liturgical Dance\nMarilyn Shakur\, Spoken Word Artist\nSundria Sam\, Psalmist\nSharon Wynn\, Gospel Recording Artist\n\n  \nVisit Online: http://www.createdwonderfully.org
URL:http://faithinthebay.com/event/enough-womens-empowerment-conference/
LOCATION:California Maritime Academy\, 200 Maritime Academy Drive\, Vallejo\, CA\, 94590\, United States
CATEGORIES:Leadership & Community,Prayer Service,Women's Empowerment,Worship & Arts,Youth & Young Adults
ATTACH;FMTTYPE=image/jpeg:http://faithinthebay.com/wp-content/uploads/2017/09/created-wonderfully-i-am-enough-2017-e1506443873558.jpg
ORGANIZER;CN="Created Wonderfully%2C Inc.":MAILTO:beyou@createdwonderfully.org
GEO:38.0692105;-122.2325063
X-APPLE-STRUCTURED-LOCATION;VALUE=URI;X-ADDRESS=California Maritime Academy 200 Maritime Academy Drive Vallejo CA 94590 United States;X-APPLE-RADIUS=500;X-TITLE=200 Maritime Academy Drive:geo:-122.2325063,38.0692105
END:VEVENT
END:VCALENDAR