BEGIN:VCALENDAR
VERSION:2.0
PRODID:-//Faith in the Bay - ECPv6.2.7//NONSGML v1.0//EN
CALSCALE:GREGORIAN
METHOD:PUBLISH
X-WR-CALNAME:Faith in the Bay
X-ORIGINAL-URL:http://faithinthebay.com
X-WR-CALDESC:Events for Faith in the Bay
REFRESH-INTERVAL;VALUE=DURATION:PT1H
X-Robots-Tag:noindex
X-PUBLISHED-TTL:PT1H
BEGIN:VTIMEZONE
TZID:America/Los_Angeles
BEGIN:DAYLIGHT
TZOFFSETFROM:-0800
TZOFFSETTO:-0700
TZNAME:PDT
DTSTART:20230312T100000
END:DAYLIGHT
BEGIN:STANDARD
TZOFFSETFROM:-0700
TZOFFSETTO:-0800
TZNAME:PST
DTSTART:20231105T090000
END:STANDARD
END:VTIMEZONE
BEGIN:VEVENT
DTSTART;TZID=America/Los_Angeles:20231114T190000
DTEND;TZID=America/Los_Angeles:20231114T220000
DTSTAMP:20260425T133124
CREATED:20161207T231322Z
LAST-MODIFIED:20161209T020224Z
UID:10007900-1699988400-1699999200@faithinthebay.com
SUMMARY:Holiday At The Temple "An Elegant Affair"
DESCRIPTION:  \nNew this year\, Marcus McCauley Sessions’ take on the Holidays with a glamorous\, soul stirring production “Holiday at The Temple” An Elegant Affair. \nJoin us on the evening of December 9th & 10th for a sweeping string section\, live horns\, band and top notch singers. \nEnjoy a Winter Wonderland Bazaar full of luxurious holiday treats. \nFeatured artists: \n\nLena Byrd Miles\nDasha Moore\nVictor V.S Brice\nTanya Fitzgerald\nVictor Brice\nAliya Hall\nTimothy Mays\nSangin Sara\nJoshua Carter\nTamara Edwards\n\nCome dressed in your best and experience your holiday favorites ….. with a twist. Gospel\, Classical\, and Jazz will tickle your ears and put you right in the holiday spirit. \nMore importantly this amazing production has partnered with Hope Resources\, Inc. Our goal is to bring the community together in unity. \nPartial proceeds will be donated Hope Resources\, Toys for Tots and Shepard’s Gate Women’s Shelter.
URL:http://faithinthebay.com/event/holiday-at-the-temple-an-elegant-affair-2016/2023-11-14/
LOCATION:Solomon Temple International\, 655 California Avenue\, Pittsburg\, CA\, 94565\, United States
CATEGORIES:Gospel Concert,Worship & Arts
ATTACH;FMTTYPE=image/jpeg:http://faithinthebay.com/wp-content/uploads/2016/12/Holiday-at-the-Temple-Marcus-McCauley-Sessions-2016.jpg
GEO:38.0150403;-121.8775721
X-APPLE-STRUCTURED-LOCATION;VALUE=URI;X-ADDRESS=Solomon Temple International 655 California Avenue Pittsburg CA 94565 United States;X-APPLE-RADIUS=500;X-TITLE=655 California Avenue:geo:-121.8775721,38.0150403
END:VEVENT
END:VCALENDAR