BEGIN:VCALENDAR
VERSION:2.0
PRODID:-//Faith in the Bay - ECPv6.2.7//NONSGML v1.0//EN
CALSCALE:GREGORIAN
METHOD:PUBLISH
X-WR-CALNAME:Faith in the Bay
X-ORIGINAL-URL:http://faithinthebay.com
X-WR-CALDESC:Events for Faith in the Bay
REFRESH-INTERVAL;VALUE=DURATION:PT1H
X-Robots-Tag:noindex
X-PUBLISHED-TTL:PT1H
BEGIN:VTIMEZONE
TZID:America/Los_Angeles
BEGIN:DAYLIGHT
TZOFFSETFROM:-0800
TZOFFSETTO:-0700
TZNAME:PDT
DTSTART:20180311T100000
END:DAYLIGHT
BEGIN:STANDARD
TZOFFSETFROM:-0700
TZOFFSETTO:-0800
TZNAME:PST
DTSTART:20181104T090000
END:STANDARD
END:VTIMEZONE
BEGIN:VEVENT
DTSTART;TZID=America/Los_Angeles:20180331T120000
DTEND;TZID=America/Los_Angeles:20180331T150000
DTSTAMP:20260419T090843
CREATED:20180330T174536Z
LAST-MODIFIED:20180330T174536Z
UID:10013311-1522497600-1522508400@faithinthebay.com
SUMMARY:The Church of God Holy - Easter Community Celebration 2018
DESCRIPTION:The Church of God-Holy invites you to attend our Easter Community Celebration\, Saturday\, March 31\, 2018 from 12noon – 3pm. \nJoin us for FREE Food\, Games\, Haircuts & More! \n  \nRev. Eugene Jackson\, Senior Pastor\nElder James B. Jones\, Pastor Emeritus
URL:http://faithinthebay.com/event/the-church-of-god-holy-easter-community-celebration-2018/
LOCATION:The Church of God Holy\, 1700 A Street\, Antioch\, CA\, 94509\, United States
CATEGORIES:Family Fun,Holy Week - Sunrise - Easter,Leadership & Community,Youth & Young Adults
ATTACH;FMTTYPE=image/jpeg:http://faithinthebay.com/wp-content/uploads/2018/03/the-church-of-god-holy-easter-celebration.jpg
GEO:38.0053468;-121.8063029
X-APPLE-STRUCTURED-LOCATION;VALUE=URI;X-ADDRESS=The Church of God Holy 1700 A Street Antioch CA 94509 United States;X-APPLE-RADIUS=500;X-TITLE=1700 A Street:geo:-121.8063029,38.0053468
END:VEVENT
BEGIN:VEVENT
DTSTART;TZID=America/Los_Angeles:20180330T190000
DTEND;TZID=America/Los_Angeles:20180330T220000
DTSTAMP:20260419T090843
CREATED:20180330T173506Z
LAST-MODIFIED:20180330T173610Z
UID:10013310-1522436400-1522447200@faithinthebay.com
SUMMARY:The Church of God Holy - Youth & Young Adult Good Friday Service
DESCRIPTION:The Church of God-Holy presents “Hostile Takeover” a Youth & Young Adult Good Friday Service\, Friday\, March 30\, 2018 at 7pm. \nFeaturing \n\nMin. Lenard Jackson\, Speaker\nAliya Hall\nP.L.A\nDouble Portion of Praise\nHebrew Boys\n\nRev. Eugene Jackson\, Senior Pastor\nElder James B. Jones\, Pastor Emeritus
URL:http://faithinthebay.com/event/the-church-of-god-holy-youth-young-adult-good-friday-service/
LOCATION:The Church of God Holy\, 1700 A Street\, Antioch\, CA\, 94509\, United States
CATEGORIES:Holy Week - Sunrise - Easter,Worship & Arts,Youth & Young Adults
ATTACH;FMTTYPE=image/jpeg:http://faithinthebay.com/wp-content/uploads/2018/03/church-of-god-holy-good-friday-2018.jpg
GEO:38.0053468;-121.8063029
X-APPLE-STRUCTURED-LOCATION;VALUE=URI;X-ADDRESS=The Church of God Holy 1700 A Street Antioch CA 94509 United States;X-APPLE-RADIUS=500;X-TITLE=1700 A Street:geo:-121.8063029,38.0053468
END:VEVENT
END:VCALENDAR