BEGIN:VCALENDAR
VERSION:2.0
PRODID:-//Faith in the Bay - ECPv6.2.7//NONSGML v1.0//EN
CALSCALE:GREGORIAN
METHOD:PUBLISH
X-WR-CALNAME:Faith in the Bay
X-ORIGINAL-URL:http://faithinthebay.com
X-WR-CALDESC:Events for Faith in the Bay
REFRESH-INTERVAL;VALUE=DURATION:PT1H
X-Robots-Tag:noindex
X-PUBLISHED-TTL:PT1H
BEGIN:VTIMEZONE
TZID:America/Los_Angeles
BEGIN:DAYLIGHT
TZOFFSETFROM:-0800
TZOFFSETTO:-0700
TZNAME:PDT
DTSTART:20170312T100000
END:DAYLIGHT
BEGIN:STANDARD
TZOFFSETFROM:-0700
TZOFFSETTO:-0800
TZNAME:PST
DTSTART:20171105T090000
END:STANDARD
BEGIN:DAYLIGHT
TZOFFSETFROM:-0800
TZOFFSETTO:-0700
TZNAME:PDT
DTSTART:20180311T100000
END:DAYLIGHT
BEGIN:STANDARD
TZOFFSETFROM:-0700
TZOFFSETTO:-0800
TZNAME:PST
DTSTART:20181104T090000
END:STANDARD
BEGIN:DAYLIGHT
TZOFFSETFROM:-0800
TZOFFSETTO:-0700
TZNAME:PDT
DTSTART:20190310T100000
END:DAYLIGHT
BEGIN:STANDARD
TZOFFSETFROM:-0700
TZOFFSETTO:-0800
TZNAME:PST
DTSTART:20191103T090000
END:STANDARD
BEGIN:DAYLIGHT
TZOFFSETFROM:-0800
TZOFFSETTO:-0700
TZNAME:PDT
DTSTART:20200308T100000
END:DAYLIGHT
BEGIN:STANDARD
TZOFFSETFROM:-0700
TZOFFSETTO:-0800
TZNAME:PST
DTSTART:20201101T090000
END:STANDARD
END:VTIMEZONE
BEGIN:VEVENT
DTSTART;TZID=America/Los_Angeles:20200125T100000
DTEND;TZID=America/Los_Angeles:20200125T200000
DTSTAMP:20260419T072243
CREATED:20200104T010711Z
LAST-MODIFIED:20200104T010711Z
UID:10013778-1579946400-1579982400@faithinthebay.com
SUMMARY:Life Restoration Ministries - aLIVE2020
DESCRIPTION:January 2020 is the month for us to come aLIVE! What ever dried up and died in your life can come aLIVE! LRM will host it’s 1st conference 1/24-1/26. \n  \n \n  \n\n\n\n\n\naLIVE Class Descriptions \n\n\n\n\n\n\nAdult Sessions: \n\nIT Still Hurts! – Pastor Marcus Vincent\nThe truth is church hurt does exist BUT\, there is LIFE after pain! This session aims to encourage those who have been hurt by the institution of Church or Church people\, to change their narratives from hurting to HEALED!\nIn the HOT Seat! – Pastor Winton Anderson\nHave you ever served but felt like you deserved the seat of the leader you served under? In other words\, you feel as if you are not where you want to be. This session aims to help those who struggle with their purpose and their assignment to help them find value in the seat that they are in.\nI See DOUBLE! – Pastor Zachary Obey\nAre you now or aspiring to be an entrepreneur? There is God-given brilliance inside of you that has the ability to create wealth. This session aims to explore and explain entrepreneurship in the Kingdom.\nStronger\, Wiser\, Bigger\, Better! (ages 40+) – Pastor Bo Jackson\, Dr. Mary Jackson\nHave you ever felt like time has passed you by and you no longer have the opportunity to pursue your dreams and goals? You did not survive everything you went through to stop now! this session aims to encourage those over the age of 40 that God still has a plan for you\, and you’re going to LIVE to see it happen!?\nThe Gathering of Missing Pieces! (ages 18-39) – Pastor Winton Anderson\, Eld. Nicholas Burse\, LRM Staff\nHave you ever wondered what your true purpose is? You are a vital piece to life’s incomplete puzzle. this session aims to explain how you are the answer to many questions and the solution to many problems!\n\n​ \nYouthNATION Sessions: \n\nThere’s More Inside of ME! (ages 5-11) – Prophet Jordan Perkins\, Min. Djuani Littleton\nOften times\, children in this age group do not yet understand what God has placed on the inside of them. This session aims to explain to the youth that even at their age\, they possess a greatness that can change the world!\nDont 4Get about me! (ages 12-17) – Eld. Quincie Howard\, Min. Shunise Criswell\nLife’s current culture causes this age group to feel as if they are frequently unheard\, unseen\, and unimportant. This session aims to help the youth find their voice and SOAR like never before!\n\n\nRegistration: $10/children\, $30/adults | Liferestorationministries.org
URL:http://faithinthebay.com/event/life-restoration-ministries-alive2020/2020-01-25/
LOCATION:The Flight Deck\, 1540 Broadway\, Oakland\, CA\, United States
CATEGORIES:Leadership & Community,Worship & Arts
ATTACH;FMTTYPE=image/jpeg:http://faithinthebay.com/wp-content/uploads/2020/01/8326_image_79924562_1775494189250119_5090417431315218432_n.jpg
GEO:37.8058483;-122.2699464
X-APPLE-STRUCTURED-LOCATION;VALUE=URI;X-ADDRESS=The Flight Deck 1540 Broadway Oakland CA United States;X-APPLE-RADIUS=500;X-TITLE=1540 Broadway:geo:-122.2699464,37.8058483
END:VEVENT
BEGIN:VEVENT
DTSTART;TZID=America/Los_Angeles:20180325T091500
DTEND;TZID=America/Los_Angeles:20180325T120000
DTSTAMP:20260419T072244
CREATED:20180318T181639Z
LAST-MODIFIED:20180318T181639Z
UID:10013245-1521969300-1521979200@faithinthebay.com
SUMMARY:Life Restoration Ministries - Seven Last Words
DESCRIPTION:Join Life Restoration Ministries for their 2018 Seven Last Words of Christ service\, Friday March 25\, 2018 – 9:15am. \nSpeakers \n\nFirst Word: Min. Carlin Williams\nSecond Word: Elder Larry Hampton\nThird Word: Min. Iyona Smith\nFourth Word: Min. Quincie Howard\nFifth Word: Min. Denise Richardson\nSixth Word: Min. Stephanie Jones\nSeventh Word: Pastor Bo Jackson\n\n  \nPastor Bo Jackson – Host Pastor\nLife Restoration Ministries\nhttp://www.liferestorationministries.org/
URL:http://faithinthebay.com/event/life-restoration-ministries-seven-last-words-2018/
LOCATION:The Flight Deck\, 1540 Broadway\, Oakland\, CA\, United States
CATEGORIES:Holy Week - Sunrise - Easter,Revival,Worship & Arts
ATTACH;FMTTYPE=image/jpeg:http://faithinthebay.com/wp-content/uploads/2018/03/lrm-seven-last-words-2018.jpg
GEO:37.8058483;-122.2699464
X-APPLE-STRUCTURED-LOCATION;VALUE=URI;X-ADDRESS=The Flight Deck 1540 Broadway Oakland CA United States;X-APPLE-RADIUS=500;X-TITLE=1540 Broadway:geo:-122.2699464,37.8058483
END:VEVENT
BEGIN:VEVENT
DTSTART;TZID=America/Los_Angeles:20171230T193000
DTEND;TZID=America/Los_Angeles:20171230T220000
DTSTAMP:20260419T072244
CREATED:20171223T233150Z
LAST-MODIFIED:20171223T233150Z
UID:10005334-1514662200-1514671200@faithinthebay.com
SUMMARY:The Listening Room
DESCRIPTION:Joi Rhone Presents & The Flight Deck present: The Listening Room\, an intimate evening to listen to new and upcoming projects. Come out\, hear some incredible music and support! \nFeaturing: \n\nRebel\nAliya Hall\nShonte’ Herring\nNona Brown\nRobin Hodge Williams\nGene Murden\n\nGet your tickets and be in the room on Saturday\, December 30\, 7:30p at The Flight Deck in Oakland. \nTickets: $20 sliding scale | www.theflightdeck.org
URL:http://faithinthebay.com/event/the-listening-room/
LOCATION:The Flight Deck\, 1540 Broadway\, Oakland\, CA\, United States
CATEGORIES:Advent, Christmas, Watch Night, New Years,Gospel Concert
ATTACH;FMTTYPE=image/jpeg:http://faithinthebay.com/wp-content/uploads/2017/12/joi-rhone-presents-the-listening-room-2018.jpg
ORGANIZER;CN="Joi Rhone Presents":MAILTO:joi@joirhonepresents.com
GEO:37.8058483;-122.2699464
X-APPLE-STRUCTURED-LOCATION;VALUE=URI;X-ADDRESS=The Flight Deck 1540 Broadway Oakland CA United States;X-APPLE-RADIUS=500;X-TITLE=1540 Broadway:geo:-122.2699464,37.8058483
END:VEVENT
END:VCALENDAR